BEGIN:VCALENDAR
VERSION:2.0
PRODID:-//Morris Plains Cooperative Play School - ECPv4.6.22.1//NONSGML v1.0//EN
CALSCALE:GREGORIAN
METHOD:PUBLISH
X-WR-CALNAME:Morris Plains Cooperative Play School
X-ORIGINAL-URL:https://www.morrisplainsco-op.org
X-WR-CALDESC:Events for Morris Plains Cooperative Play School
BEGIN:VEVENT
DTSTART;TZID=America/New_York:20250320T090000
DTEND;TZID=America/New_York:20250320T093000
DTSTAMP:20260421T134359
CREATED:20240815T185948Z
LAST-MODIFIED:20240815T185948Z
UID:4262-1742461200-1742463000@www.morrisplainsco-op.org
SUMMARY:5 Morning Class Meeting
DESCRIPTION:
URL:https://www.morrisplainsco-op.org/event/5-morning-class-meeting-4/
LOCATION:Morris Plains Cooperative Play School\, 8 Cleveland Ave\, Morris Plains\, NJ\, 07950\, United States
CATEGORIES:Class Meeting
END:VEVENT
END:VCALENDAR