BEGIN:VCALENDAR
VERSION:2.0
PRODID:-//Morris Plains Cooperative Play School - ECPv4.6.22.1//NONSGML v1.0//EN
CALSCALE:GREGORIAN
METHOD:PUBLISH
X-WR-CALNAME:Morris Plains Cooperative Play School
X-ORIGINAL-URL:https://www.morrisplainsco-op.org
X-WR-CALDESC:Events for Morris Plains Cooperative Play School
BEGIN:VEVENT
DTSTART;TZID=America/New_York:20240108T200000
DTEND;TZID=America/New_York:20240108T220000
DTSTAMP:20260422T145411
CREATED:20230902T161906Z
LAST-MODIFIED:20230902T161906Z
UID:4083-1704744000-1704751200@www.morrisplainsco-op.org
SUMMARY:Board Meeting
DESCRIPTION:
URL:https://www.morrisplainsco-op.org/event/board-meeting-11/
CATEGORIES:Board Meeting
END:VEVENT
END:VCALENDAR