BEGIN:VCALENDAR
VERSION:2.0
PRODID:-//Morris Plains Cooperative Play School - ECPv4.6.22.1//NONSGML v1.0//EN
CALSCALE:GREGORIAN
METHOD:PUBLISH
X-WR-CALNAME:Morris Plains Cooperative Play School
X-ORIGINAL-URL:https://www.morrisplainsco-op.org
X-WR-CALDESC:Events for Morris Plains Cooperative Play School
BEGIN:VEVENT
DTSTART;VALUE=DATE:20230609
DTEND;VALUE=DATE:20230610
DTSTAMP:20260421T091658
CREATED:20230313T012053Z
LAST-MODIFIED:20230313T012053Z
UID:3857-1686268800-1686355199@www.morrisplainsco-op.org
SUMMARY:Last Day of School (2 Day and 5 Day Classes)
DESCRIPTION:
URL:https://www.morrisplainsco-op.org/event/last-day-of-school-2-day-and-5-day-classes/
END:VEVENT
END:VCALENDAR