BEGIN:VCALENDAR
VERSION:2.0
PRODID:-//Morris Plains Cooperative Play School - ECPv4.6.22.1//NONSGML v1.0//EN
CALSCALE:GREGORIAN
METHOD:PUBLISH
X-WR-CALNAME:Morris Plains Cooperative Play School
X-ORIGINAL-URL:https://www.morrisplainsco-op.org
X-WR-CALDESC:Events for Morris Plains Cooperative Play School
BEGIN:VEVENT
DTSTART;VALUE=DATE:20241107
DTEND;VALUE=DATE:20241109
DTSTAMP:20260421T221342
CREATED:20240815T182627Z
LAST-MODIFIED:20240815T182945Z
UID:4202-1730937600-1731110399@www.morrisplainsco-op.org
SUMMARY:NJEA Teachers Convention - School Closed
DESCRIPTION:
URL:https://www.morrisplainsco-op.org/event/parent-pitch-in-session-7/
LOCATION:Morris Plains Cooperative Play School\, 8 Cleveland Ave\, Morris Plains\, NJ\, 07950\, United States
CATEGORIES:Closings
END:VEVENT
END:VCALENDAR