BEGIN:VCALENDAR
VERSION:2.0
PRODID:-//Morris Plains Cooperative Play School - ECPv4.6.22.1//NONSGML v1.0//EN
CALSCALE:GREGORIAN
METHOD:PUBLISH
X-WR-CALNAME:Morris Plains Cooperative Play School
X-ORIGINAL-URL:https://www.morrisplainsco-op.org
X-WR-CALDESC:Events for Morris Plains Cooperative Play School
BEGIN:VEVENT
DTSTART;TZID=America/New_York:20250426T080000
DTEND;TZID=America/New_York:20250426T110000
DTSTAMP:20260421T134436
CREATED:20240815T190142Z
LAST-MODIFIED:20240815T190142Z
UID:4268-1745654400-1745665200@www.morrisplainsco-op.org
SUMMARY:Parents Pitch-In Session
DESCRIPTION:
URL:https://www.morrisplainsco-op.org/event/parents-pitch-in-session-3/
LOCATION:Morris Plains Cooperative Play School\, 8 Cleveland Ave\, Morris Plains\, NJ\, 07950\, United States
CATEGORIES:Maintenance
END:VEVENT
END:VCALENDAR