BEGIN:VCALENDAR
VERSION:2.0
PRODID:-//Morris Plains Cooperative Play School - ECPv4.6.22.1//NONSGML v1.0//EN
CALSCALE:GREGORIAN
METHOD:PUBLISH
X-WR-CALNAME:Morris Plains Cooperative Play School
X-ORIGINAL-URL:https://www.morrisplainsco-op.org
X-WR-CALDESC:Events for Morris Plains Cooperative Play School
BEGIN:VEVENT
DTSTART;VALUE=DATE:20221005
DTEND;VALUE=DATE:20221006
DTSTAMP:20260424T204106
CREATED:20220915T002717Z
LAST-MODIFIED:20220915T011125Z
UID:3613-1664928000-1665014399@www.morrisplainsco-op.org
SUMMARY:Yom Kippur- School Closed
DESCRIPTION:
URL:https://www.morrisplainsco-op.org/event/yom-kippur-school-closed-3/
CATEGORIES:Closings
END:VEVENT
END:VCALENDAR