BEGIN:VCALENDAR
VERSION:2.0
PRODID:-//Morris Plains Cooperative Play School - ECPv4.6.22.1//NONSGML v1.0//EN
CALSCALE:GREGORIAN
METHOD:PUBLISH
X-WR-CALNAME:Morris Plains Cooperative Play School
X-ORIGINAL-URL:https://www.morrisplainsco-op.org
X-WR-CALDESC:Events for Morris Plains Cooperative Play School
BEGIN:VEVENT
DTSTART;VALUE=DATE:20230410
DTEND;VALUE=DATE:20230411
DTSTAMP:20260423T032247
CREATED:20230313T005145Z
LAST-MODIFIED:20230313T005145Z
UID:3825-1681084800-1681171199@www.morrisplainsco-op.org
SUMMARY:Spring Recess - School Closed
DESCRIPTION:
URL:https://www.morrisplainsco-op.org/event/spring-recess-school-closed-7/
CATEGORIES:Closings
END:VEVENT
END:VCALENDAR