BEGIN:VCALENDAR
VERSION:2.0
PRODID:-//Morris Plains Cooperative Play School - ECPv4.6.22.1//NONSGML v1.0//EN
CALSCALE:GREGORIAN
METHOD:PUBLISH
X-WR-CALNAME:Morris Plains Cooperative Play School
X-ORIGINAL-URL:https://www.morrisplainsco-op.org
X-WR-CALDESC:Events for Morris Plains Cooperative Play School
BEGIN:VEVENT
DTSTART;TZID=America/New_York:20230412T200000
DTEND;TZID=America/New_York:20230412T220000
DTSTAMP:20260423T031417
CREATED:20220915T005451Z
LAST-MODIFIED:20220915T010646Z
UID:3652-1681329600-1681336800@www.morrisplainsco-op.org
SUMMARY:Board Meeting
DESCRIPTION:Open to the public \nLocation: Morris Plains Co-op Play School\, 8 Cleveland Ave\, Morris Plains \nRoom: Basement \n
URL:https://www.morrisplainsco-op.org/event/board-meeting-5/
CATEGORIES:Board Meeting
END:VEVENT
END:VCALENDAR