BEGIN:VCALENDAR
VERSION:2.0
PRODID:-//Morris Plains Cooperative Play School - ECPv4.6.22.1//NONSGML v1.0//EN
CALSCALE:GREGORIAN
METHOD:PUBLISH
X-WR-CALNAME:Morris Plains Cooperative Play School
X-ORIGINAL-URL:https://www.morrisplainsco-op.org
X-WR-CALDESC:Events for Morris Plains Cooperative Play School
BEGIN:VEVENT
DTSTART;TZID=America/New_York:20230430T100000
DTEND;TZID=America/New_York:20230430T113000
DTSTAMP:20260423T015735
CREATED:20230313T012816Z
LAST-MODIFIED:20230501T024558Z
UID:3869-1682848800-1682854200@www.morrisplainsco-op.org
SUMMARY:Parent Wellness Workshop
DESCRIPTION:
URL:https://www.morrisplainsco-op.org/event/parent-wellness-workshop/
LOCATION:Morris Plains Community Center\, 51 Jim Fear Drive\, Morris Plains\, 07950\, United States
END:VEVENT
END:VCALENDAR