BEGIN:VCALENDAR
VERSION:2.0
PRODID:-//Morris Plains Cooperative Play School - ECPv4.6.22.1//NONSGML v1.0//EN
CALSCALE:GREGORIAN
METHOD:PUBLISH
X-WR-CALNAME:Morris Plains Cooperative Play School
X-ORIGINAL-URL:https://www.morrisplainsco-op.org
X-WR-CALDESC:Events for Morris Plains Cooperative Play School
BEGIN:VEVENT
DTSTART;VALUE=DATE:20230601
DTEND;VALUE=DATE:20230602
DTSTAMP:20260423T002608
CREATED:20230313T005507Z
LAST-MODIFIED:20230313T005507Z
UID:3833-1685577600-1685663999@www.morrisplainsco-op.org
SUMMARY:Tuition Deposit Due for 2023-2024 School Year
DESCRIPTION:
URL:https://www.morrisplainsco-op.org/event/tuition-deposit-due-for-2023-2024-school-year/
END:VEVENT
END:VCALENDAR