BEGIN:VCALENDAR
VERSION:2.0
PRODID:-//Morris Plains Cooperative Play School - ECPv4.6.22.1//NONSGML v1.0//EN
CALSCALE:GREGORIAN
METHOD:PUBLISH
X-WR-CALNAME:Morris Plains Cooperative Play School
X-ORIGINAL-URL:https://www.morrisplainsco-op.org
X-WR-CALDESC:Events for Morris Plains Cooperative Play School
BEGIN:VEVENT
DTSTART;VALUE=DATE:20230602
DTEND;VALUE=DATE:20230603
DTSTAMP:20260423T002531
CREATED:20230313T012145Z
LAST-MODIFIED:20230313T012145Z
UID:3859-1685664000-1685750399@www.morrisplainsco-op.org
SUMMARY:Last Day of School (Step Up Class)
DESCRIPTION:
URL:https://www.morrisplainsco-op.org/event/last-day-of-school-step-up-class/
END:VEVENT
END:VCALENDAR