BEGIN:VCALENDAR
VERSION:2.0
PRODID:-//Morris Plains Cooperative Play School - ECPv4.6.22.1//NONSGML v1.0//EN
CALSCALE:GREGORIAN
METHOD:PUBLISH
X-WR-CALNAME:Morris Plains Cooperative Play School
X-ORIGINAL-URL:https://www.morrisplainsco-op.org
X-WR-CALDESC:Events for Morris Plains Cooperative Play School
BEGIN:VEVENT
DTSTART;VALUE=DATE:20230608
DTEND;VALUE=DATE:20230609
DTSTAMP:20260423T002531
CREATED:20230313T012017Z
LAST-MODIFIED:20230313T012017Z
UID:3855-1686182400-1686268799@www.morrisplainsco-op.org
SUMMARY:Last Day of School (4 Day Class)
DESCRIPTION:
URL:https://www.morrisplainsco-op.org/event/last-day-of-school-4-day-class/
END:VEVENT
END:VCALENDAR