BEGIN:VCALENDAR
VERSION:2.0
PRODID:-//Morris Plains Cooperative Play School - ECPv4.6.22.1//NONSGML v1.0//EN
CALSCALE:GREGORIAN
METHOD:PUBLISH
X-WR-CALNAME:Morris Plains Cooperative Play School
X-ORIGINAL-URL:https://www.morrisplainsco-op.org
X-WR-CALDESC:Events for Morris Plains Cooperative Play School
BEGIN:VEVENT
DTSTART;VALUE=DATE:20230703
DTEND;VALUE=DATE:20230705
DTSTAMP:20260422T224844
CREATED:20230501T025533Z
LAST-MODIFIED:20230501T025533Z
UID:3905-1688342400-1688515199@www.morrisplainsco-op.org
SUMMARY:SCHOOL CLOSED for 4th of July
DESCRIPTION:
URL:https://www.morrisplainsco-op.org/event/school-closed-for-4th-of-july/
CATEGORIES:Closings
END:VEVENT
END:VCALENDAR