BEGIN:VCALENDAR
VERSION:2.0
PRODID:-//Morris Plains Cooperative Play School - ECPv4.6.22.1//NONSGML v1.0//EN
CALSCALE:GREGORIAN
METHOD:PUBLISH
X-WR-CALNAME:Morris Plains Cooperative Play School
X-ORIGINAL-URL:https://www.morrisplainsco-op.org
X-WR-CALDESC:Events for Morris Plains Cooperative Play School
BEGIN:VEVENT
DTSTART;TZID=America/New_York:20230907T130000
DTEND;TZID=America/New_York:20230907T140000
DTSTAMP:20260422T195412
CREATED:20230901T013938Z
LAST-MODIFIED:20230901T013938Z
UID:3918-1694091600-1694095200@www.morrisplainsco-op.org
SUMMARY:Co-op 101
DESCRIPTION:
URL:https://www.morrisplainsco-op.org/event/co-op-101-2/
END:VEVENT
END:VCALENDAR