BEGIN:VCALENDAR
VERSION:2.0
PRODID:-//Morris Plains Cooperative Play School - ECPv4.6.22.1//NONSGML v1.0//EN
CALSCALE:GREGORIAN
METHOD:PUBLISH
X-WR-CALNAME:Morris Plains Cooperative Play School
X-ORIGINAL-URL:https://www.morrisplainsco-op.org
X-WR-CALDESC:Events for Morris Plains Cooperative Play School
BEGIN:VEVENT
DTSTART;VALUE=DATE:20230911
DTEND;VALUE=DATE:20230912
DTSTAMP:20260422T194557
CREATED:20230901T013734Z
LAST-MODIFIED:20230901T013824Z
UID:3913-1694390400-1694476799@www.morrisplainsco-op.org
SUMMARY:First Day of School for 3\, 4\, & 5 Day Classes
DESCRIPTION:
URL:https://www.morrisplainsco-op.org/event/first-day-of-school-for-3-4-5-morning-classes-2/
END:VEVENT
BEGIN:VEVENT
DTSTART;TZID=America/New_York:20230911T190000
DTEND;TZID=America/New_York:20230911T200000
DTSTAMP:20260422T194557
CREATED:20230901T014011Z
LAST-MODIFIED:20230901T014011Z
UID:3920-1694458800-1694462400@www.morrisplainsco-op.org
SUMMARY:Co-op 101
DESCRIPTION:
URL:https://www.morrisplainsco-op.org/event/co-op-101-3/
END:VEVENT
END:VCALENDAR