BEGIN:VCALENDAR
VERSION:2.0
PRODID:-//Morris Plains Cooperative Play School - ECPv4.6.22.1//NONSGML v1.0//EN
CALSCALE:GREGORIAN
METHOD:PUBLISH
X-WR-CALNAME:Morris Plains Cooperative Play School
X-ORIGINAL-URL:https://www.morrisplainsco-op.org
X-WR-CALDESC:Events for Morris Plains Cooperative Play School
BEGIN:VEVENT
DTSTART;VALUE=DATE:20230914
DTEND;VALUE=DATE:20230915
DTSTAMP:20260422T194450
CREATED:20230901T013852Z
LAST-MODIFIED:20230901T013852Z
UID:3916-1694649600-1694735999@www.morrisplainsco-op.org
SUMMARY:First Day of School for 2 Day Class
DESCRIPTION:
URL:https://www.morrisplainsco-op.org/event/first-day-of-school-for-2-day-class/
END:VEVENT
END:VCALENDAR