BEGIN:VCALENDAR
VERSION:2.0
PRODID:-//Morris Plains Cooperative Play School - ECPv4.6.22.1//NONSGML v1.0//EN
CALSCALE:GREGORIAN
METHOD:PUBLISH
X-WR-CALNAME:Morris Plains Cooperative Play School
X-ORIGINAL-URL:https://www.morrisplainsco-op.org
X-WR-CALDESC:Events for Morris Plains Cooperative Play School
BEGIN:VEVENT
DTSTART;TZID=America/New_York:20230918T190000
DTEND;TZID=America/New_York:20230918T200000
DTSTAMP:20260422T194536
CREATED:20230901T014125Z
LAST-MODIFIED:20230901T014125Z
UID:3922-1695063600-1695067200@www.morrisplainsco-op.org
SUMMARY:New Family Welcome Meeting
DESCRIPTION:
URL:https://www.morrisplainsco-op.org/event/new-family-welcome-meeting-5/
END:VEVENT
END:VCALENDAR