BEGIN:VCALENDAR
VERSION:2.0
PRODID:-//Morris Plains Cooperative Play School - ECPv4.6.22.1//NONSGML v1.0//EN
CALSCALE:GREGORIAN
METHOD:PUBLISH
X-WR-CALNAME:Morris Plains Cooperative Play School
X-ORIGINAL-URL:https://www.morrisplainsco-op.org
X-WR-CALDESC:Events for Morris Plains Cooperative Play School
BEGIN:VEVENT
DTSTART;TZID=America/New_York:20230930T150000
DTEND;TZID=America/New_York:20230930T170000
DTSTAMP:20260422T195105
CREATED:20230901T014217Z
LAST-MODIFIED:20230901T014217Z
UID:3924-1696086000-1696093200@www.morrisplainsco-op.org
SUMMARY:Back To School Event
DESCRIPTION:
URL:https://www.morrisplainsco-op.org/event/back-to-school-event/
LOCATION:Morris Plains Community Park\, 51 Jim Fear Drive\, Morris Plains\, NJ\, 07950\, United States
CATEGORIES:Family Events
END:VEVENT
END:VCALENDAR