BEGIN:VCALENDAR
VERSION:2.0
PRODID:-//Morris Plains Cooperative Play School - ECPv4.6.22.1//NONSGML v1.0//EN
CALSCALE:GREGORIAN
METHOD:PUBLISH
X-WR-CALNAME:Morris Plains Cooperative Play School
X-ORIGINAL-URL:https://www.morrisplainsco-op.org
X-WR-CALDESC:Events for Morris Plains Cooperative Play School
BEGIN:VEVENT
DTSTART;TZID=America/New_York:20231218T080000
DTEND;TZID=America/New_York:20240101T170000
DTSTAMP:20260422T133022
CREATED:20230901T020147Z
LAST-MODIFIED:20230901T020147Z
UID:3964-1702886400-1704128400@www.morrisplainsco-op.org
SUMMARY:Winter Break - School Closed
DESCRIPTION:
URL:https://www.morrisplainsco-op.org/event/winter-break-school-closed/
CATEGORIES:Closings
END:VEVENT
BEGIN:VEVENT
DTSTART;VALUE=DATE:20240101
DTEND;VALUE=DATE:20240102
DTSTAMP:20260422T133022
CREATED:20230901T014827Z
LAST-MODIFIED:20230901T014827Z
UID:3936-1704067200-1704153599@www.morrisplainsco-op.org
SUMMARY:Tuition Due
DESCRIPTION:
URL:https://www.morrisplainsco-op.org/event/tuition-due-27/
END:VEVENT
END:VCALENDAR