BEGIN:VCALENDAR
VERSION:2.0
PRODID:-//Morris Plains Cooperative Play School - ECPv4.6.22.1//NONSGML v1.0//EN
CALSCALE:GREGORIAN
METHOD:PUBLISH
X-WR-CALNAME:Morris Plains Cooperative Play School
X-ORIGINAL-URL:https://www.morrisplainsco-op.org
X-WR-CALDESC:Events for Morris Plains Cooperative Play School
BEGIN:VEVENT
DTSTART;TZID=America/New_York:20240131T170000
DTEND;TZID=America/New_York:20240131T200000
DTSTAMP:20260422T115050
CREATED:20230901T020547Z
LAST-MODIFIED:20230901T020547Z
UID:3970-1706720400-1706731200@www.morrisplainsco-op.org
SUMMARY:Parent Pitch-In Session
DESCRIPTION:
URL:https://www.morrisplainsco-op.org/event/parent-pitch-in-session-5/
CATEGORIES:Maintenance
END:VEVENT
END:VCALENDAR