BEGIN:VCALENDAR
VERSION:2.0
PRODID:-//Morris Plains Cooperative Play School - ECPv4.6.22.1//NONSGML v1.0//EN
CALSCALE:GREGORIAN
METHOD:PUBLISH
X-WR-CALNAME:Morris Plains Cooperative Play School
X-ORIGINAL-URL:https://www.morrisplainsco-op.org
X-WR-CALDESC:Events for Morris Plains Cooperative Play School
BEGIN:VEVENT
DTSTART;VALUE=DATE:20240220
DTEND;VALUE=DATE:20240221
DTSTAMP:20260422T115055
CREATED:20230901T020720Z
LAST-MODIFIED:20230901T020720Z
UID:3974-1708387200-1708473599@www.morrisplainsco-op.org
SUMMARY:Staff Professional Development Day - School Closed
DESCRIPTION:
URL:https://www.morrisplainsco-op.org/event/staff-professional-development-day-school-closed-3/
CATEGORIES:Closings
END:VEVENT
END:VCALENDAR