BEGIN:VCALENDAR
VERSION:2.0
PRODID:-//Morris Plains Cooperative Play School - ECPv4.6.22.1//NONSGML v1.0//EN
CALSCALE:GREGORIAN
METHOD:PUBLISH
X-WR-CALNAME:Morris Plains Cooperative Play School
X-ORIGINAL-URL:https://www.morrisplainsco-op.org
X-WR-CALDESC:Events for Morris Plains Cooperative Play School
BEGIN:VEVENT
DTSTART;TZID=America/New_York:20240605T080000
DTEND;TZID=America/New_York:20240605T170000
DTSTAMP:20260422T044349
CREATED:20230901T021041Z
LAST-MODIFIED:20230901T021041Z
UID:3982-1717574400-1717606800@www.morrisplainsco-op.org
SUMMARY:Last Day of School for 3 Day Classes
DESCRIPTION:
URL:https://www.morrisplainsco-op.org/event/last-day-of-school-for-3-day-classes/
END:VEVENT
END:VCALENDAR