BEGIN:VCALENDAR
VERSION:2.0
PRODID:-//Morris Plains Cooperative Play School - ECPv4.6.22.1//NONSGML v1.0//EN
CALSCALE:GREGORIAN
METHOD:PUBLISH
X-WR-CALNAME:Morris Plains Cooperative Play School
X-ORIGINAL-URL:https://www.morrisplainsco-op.org
X-WR-CALDESC:Events for Morris Plains Cooperative Play School
BEGIN:VEVENT
DTSTART;TZID=America/New_York:20240606T080000
DTEND;TZID=America/New_York:20240606T170000
DTSTAMP:20260422T044638
CREATED:20230901T021116Z
LAST-MODIFIED:20230901T021211Z
UID:3984-1717660800-1717693200@www.morrisplainsco-op.org
SUMMARY:Last Day of School for 4 Day Class
DESCRIPTION:
URL:https://www.morrisplainsco-op.org/event/last-day-of-school-for-4-day-classes/
END:VEVENT
END:VCALENDAR