BEGIN:VCALENDAR
VERSION:2.0
PRODID:-//Morris Plains Cooperative Play School - ECPv4.6.22.1//NONSGML v1.0//EN
CALSCALE:GREGORIAN
METHOD:PUBLISH
X-WR-CALNAME:Morris Plains Cooperative Play School
X-ORIGINAL-URL:https://www.morrisplainsco-op.org
X-WR-CALDESC:Events for Morris Plains Cooperative Play School
BEGIN:VEVENT
DTSTART;TZID=America/New_York:20240905T090000
DTEND;TZID=America/New_York:20240905T103000
DTSTAMP:20260421T235921
CREATED:20240815T180343Z
LAST-MODIFIED:20240815T180343Z
UID:4175-1725526800-1725532200@www.morrisplainsco-op.org
SUMMARY:5 Morning Class Meeting
DESCRIPTION:
URL:https://www.morrisplainsco-op.org/event/5-morning-class-meeting-2/
LOCATION:Morris Plains Cooperative Play School\, 8 Cleveland Ave\, Morris Plains\, NJ\, 07950\, United States
CATEGORIES:Class Meeting
END:VEVENT
BEGIN:VEVENT
DTSTART;TZID=America/New_York:20240905T103000
DTEND;TZID=America/New_York:20240905T120000
DTSTAMP:20260421T235921
CREATED:20240815T180558Z
LAST-MODIFIED:20240815T180558Z
UID:4177-1725532200-1725537600@www.morrisplainsco-op.org
SUMMARY:2 Morning Class Meeting
DESCRIPTION:
URL:https://www.morrisplainsco-op.org/event/2-morning-class-meeting-2/
LOCATION:Morris Plains Cooperative Play School\, 8 Cleveland Ave\, Morris Plains\, NJ\, 07950\, United States
CATEGORIES:Class Meeting
END:VEVENT
BEGIN:VEVENT
DTSTART;TZID=America/New_York:20240905T130000
DTEND;TZID=America/New_York:20240905T140000
DTSTAMP:20260421T235921
CREATED:20240815T181234Z
LAST-MODIFIED:20240815T190709Z
UID:4189-1725541200-1725544800@www.morrisplainsco-op.org
SUMMARY:Co-op 101 Training
DESCRIPTION:
URL:https://www.morrisplainsco-op.org/event/co-op-101-training/
LOCATION:Morris Plains Cooperative Play School\, 8 Cleveland Ave\, Morris Plains\, NJ\, 07950\, United States
CATEGORIES:Orientation
END:VEVENT
BEGIN:VEVENT
DTSTART;TZID=America/New_York:20240905T190000
DTEND;TZID=America/New_York:20240905T200000
DTSTAMP:20260421T235921
CREATED:20240815T181326Z
LAST-MODIFIED:20240815T190724Z
UID:4191-1725562800-1725566400@www.morrisplainsco-op.org
SUMMARY:Co-op 101 Training
DESCRIPTION:
URL:https://www.morrisplainsco-op.org/event/co-op-101-training-2/
LOCATION:Morris Plains Cooperative Play School\, 8 Cleveland Ave\, Morris Plains\, NJ\, 07950\, United States
CATEGORIES:Orientation
END:VEVENT
END:VCALENDAR