BEGIN:VCALENDAR
VERSION:2.0
PRODID:-//Morris Plains Cooperative Play School - ECPv4.6.22.1//NONSGML v1.0//EN
CALSCALE:GREGORIAN
METHOD:PUBLISH
X-WR-CALNAME:Morris Plains Cooperative Play School
X-ORIGINAL-URL:https://www.morrisplainsco-op.org
X-WR-CALDESC:Events for Morris Plains Cooperative Play School
BEGIN:VEVENT
DTSTART;VALUE=DATE:20240909
DTEND;VALUE=DATE:20240910
DTSTAMP:20260421T235928
CREATED:20240815T181017Z
LAST-MODIFIED:20240815T181017Z
UID:4185-1725840000-1725926399@www.morrisplainsco-op.org
SUMMARY:First Day of School for 3\, 4\, & 5 Day Classes
DESCRIPTION:
URL:https://www.morrisplainsco-op.org/event/first-day-of-school-for-3-4-5-day-classes/
LOCATION:Morris Plains Cooperative Play School\, 8 Cleveland Ave\, Morris Plains\, NJ\, 07950\, United States
END:VEVENT
END:VCALENDAR