BEGIN:VCALENDAR
VERSION:2.0
PRODID:-//Morris Plains Cooperative Play School - ECPv4.6.22.1//NONSGML v1.0//EN
CALSCALE:GREGORIAN
METHOD:PUBLISH
X-WR-CALNAME:Morris Plains Cooperative Play School
X-ORIGINAL-URL:https://www.morrisplainsco-op.org
X-WR-CALDESC:Events for Morris Plains Cooperative Play School
BEGIN:VEVENT
DTSTART;TZID=America/New_York:20240912T080000
DTEND;TZID=America/New_York:20240912T170000
DTSTAMP:20260421T235929
CREATED:20240815T181056Z
LAST-MODIFIED:20240815T181056Z
UID:4187-1726128000-1726160400@www.morrisplainsco-op.org
SUMMARY:First Day of School for 2 Day Class
DESCRIPTION:
URL:https://www.morrisplainsco-op.org/event/first-day-of-school-for-2-day-class-2/
LOCATION:Morris Plains Cooperative Play School\, 8 Cleveland Ave\, Morris Plains\, NJ\, 07950\, United States
END:VEVENT
END:VCALENDAR