BEGIN:VCALENDAR
VERSION:2.0
PRODID:-//Morris Plains Cooperative Play School - ECPv4.6.22.1//NONSGML v1.0//EN
CALSCALE:GREGORIAN
METHOD:PUBLISH
X-WR-CALNAME:Morris Plains Cooperative Play School
X-ORIGINAL-URL:https://www.morrisplainsco-op.org
X-WR-CALDESC:Events for Morris Plains Cooperative Play School
BEGIN:VEVENT
DTSTART;TZID=America/New_York:20241113T090000
DTEND;TZID=America/New_York:20241113T093000
DTSTAMP:20260421T221241
CREATED:20240815T183338Z
LAST-MODIFIED:20240815T183338Z
UID:4211-1731488400-1731490200@www.morrisplainsco-op.org
SUMMARY:4 Morning Class Meeting
DESCRIPTION:
URL:https://www.morrisplainsco-op.org/event/4-morning-class-meeting-3/
LOCATION:Morris Plains Cooperative Play School\, 8 Cleveland Ave\, Morris Plains\, NJ\, 07950\, United States
CATEGORIES:Class Meeting
END:VEVENT
BEGIN:VEVENT
DTSTART;TZID=America/New_York:20241113T123000
DTEND;TZID=America/New_York:20241113T130000
DTSTAMP:20260421T221241
CREATED:20240815T183425Z
LAST-MODIFIED:20240815T183425Z
UID:4213-1731501000-1731502800@www.morrisplainsco-op.org
SUMMARY:4 Afternoon Class Meeting
DESCRIPTION:
URL:https://www.morrisplainsco-op.org/event/4-afternoon-class-meeting-2/
LOCATION:Morris Plains Cooperative Play School\, 8 Cleveland Ave\, Morris Plains\, NJ\, 07950\, United States
CATEGORIES:Class Meeting
END:VEVENT
END:VCALENDAR