BEGIN:VCALENDAR
VERSION:2.0
PRODID:-//Morris Plains Cooperative Play School - ECPv4.6.22.1//NONSGML v1.0//EN
CALSCALE:GREGORIAN
METHOD:PUBLISH
X-WR-CALNAME:Morris Plains Cooperative Play School
X-ORIGINAL-URL:https://www.morrisplainsco-op.org
X-WR-CALDESC:Events for Morris Plains Cooperative Play School
BEGIN:VEVENT
DTSTART;VALUE=DATE:20250201
DTEND;VALUE=DATE:20250202
DTSTAMP:20260421T152758
CREATED:20240815T184529Z
LAST-MODIFIED:20240815T184529Z
UID:4237-1738368000-1738454399@www.morrisplainsco-op.org
SUMMARY:Tuition Due
DESCRIPTION:
URL:https://www.morrisplainsco-op.org/event/tuition-due-37/
END:VEVENT
END:VCALENDAR