BEGIN:VCALENDAR
VERSION:2.0
PRODID:-//Morris Plains Cooperative Play School - ECPv4.6.22.1//NONSGML v1.0//EN
CALSCALE:GREGORIAN
METHOD:PUBLISH
X-WR-CALNAME:Morris Plains Cooperative Play School
X-ORIGINAL-URL:https://www.morrisplainsco-op.org
X-WR-CALDESC:Events for Morris Plains Cooperative Play School
BEGIN:VEVENT
DTSTART;VALUE=DATE:20250601
DTEND;VALUE=DATE:20250602
DTSTAMP:20260421T090321
CREATED:20250530T022727Z
LAST-MODIFIED:20250530T022727Z
UID:4354-1748736000-1748822399@www.morrisplainsco-op.org
SUMMARY:Tuition Deposit & Contracts Due for 2025-2026 School Year
DESCRIPTION:
URL:https://www.morrisplainsco-op.org/event/tuition-deposit-contracts-due-for-2025-2026-school-year/
END:VEVENT
END:VCALENDAR